BEGIN:VCALENDAR
VERSION:2.0
PRODID:-//Miejski Ośrodek Kultury im. Jerzego Turka w Kobyłce - ECPv6.15.20//NONSGML v1.0//EN
CALSCALE:GREGORIAN
METHOD:PUBLISH
X-WR-CALNAME:Miejski Ośrodek Kultury im. Jerzego Turka w Kobyłce
X-ORIGINAL-URL:https://mok-kobylka.pl
X-WR-CALDESC:Wydarzenia dla Miejski Ośrodek Kultury im. Jerzego Turka w Kobyłce
REFRESH-INTERVAL;VALUE=DURATION:PT1H
X-Robots-Tag:noindex
X-PUBLISHED-TTL:PT1H
BEGIN:VTIMEZONE
TZID:Europe/Helsinki
BEGIN:DAYLIGHT
TZOFFSETFROM:+0200
TZOFFSETTO:+0300
TZNAME:EEST
DTSTART:20250330T010000
END:DAYLIGHT
BEGIN:STANDARD
TZOFFSETFROM:+0300
TZOFFSETTO:+0200
TZNAME:EET
DTSTART:20251026T010000
END:STANDARD
BEGIN:DAYLIGHT
TZOFFSETFROM:+0200
TZOFFSETTO:+0300
TZNAME:EEST
DTSTART:20260329T010000
END:DAYLIGHT
BEGIN:STANDARD
TZOFFSETFROM:+0300
TZOFFSETTO:+0200
TZNAME:EET
DTSTART:20261025T010000
END:STANDARD
BEGIN:DAYLIGHT
TZOFFSETFROM:+0200
TZOFFSETTO:+0300
TZNAME:EEST
DTSTART:20270328T010000
END:DAYLIGHT
BEGIN:STANDARD
TZOFFSETFROM:+0300
TZOFFSETTO:+0200
TZNAME:EET
DTSTART:20271031T010000
END:STANDARD
END:VTIMEZONE
BEGIN:VEVENT
DTSTART;TZID=Europe/Helsinki:20260423T093000
DTEND;TZID=Europe/Helsinki:20260423T120000
DTSTAMP:20260419T170454
CREATED:20260407T075304Z
LAST-MODIFIED:20260407T075304Z
UID:29001-1776936600-1776945600@mok-kobylka.pl
SUMMARY:Kobieca Przestrzeń Kobyłki – warsztaty z Agnieszką Nowakowską + networking
DESCRIPTION:Kobieca Przestrzeń Kobyłki – warsztaty z Agnieszką Nowakowską + networking
URL:https://mok-kobylka.pl/kalendarz/kobieca-przestrzen-kobylki-warsztaty-z-agnieszka-nowakowska-networking/
END:VEVENT
BEGIN:VEVENT
DTSTART;TZID=Europe/Helsinki:20260424T180000
DTEND;TZID=Europe/Helsinki:20260426T200000
DTSTAMP:20260419T170454
CREATED:20260331T161241Z
LAST-MODIFIED:20260331T161241Z
UID:28975-1777053600-1777233600@mok-kobylka.pl
SUMMARY:Weekend Perkusyjny z Dominikiem Jędrzejczykiem
DESCRIPTION:Weekend Perkusyjny z Dominikiem Jędrzejczykiem
URL:https://mok-kobylka.pl/kalendarz/weekend-perkusyjny-z-dominikiem-jedrzejczykiem/
END:VEVENT
END:VCALENDAR